Workbook

Sheet Compare splits
A1: Compare workout splits | H1: scraler
A2: Edit sets on the three plan tabs. This page updates by itself.
A5: 3 DAY, HARD SETS A WEEK | C5: 4 DAY, HARD SETS A WEEK | E5: 5 DAY, HARD SETS A WEEK | G5: TRAINING DAYS
A6: ='3 day full body'!L21 | C6: ='4 day upper lower'!L21 | E6: ='5 day PPL + UL'!L21 | G6: ='3 day full body'!A8&" / "&'4 day upper lower'!A8&" / "&'5 day PPL + UL'!A8
B9: 3 day: Full body | D9: 4 day: Upper / lower | F9: 5 day: PPL + upper / lower
A10: Muscle | B10: Hard sets | C10: Sessions | D10: Hard sets | E10: Sessions | F10: Hard sets | G10: Sessions
A11: Chest | B11: ='3 day full body'!L12 | C11: ='3 day full body'!M12 | D11: ='4 day upper lower'!L12 | E11: ='4 day upper lower'!M12 | F11: ='5 day PPL + UL'!L12 | G11: ='5 day PPL + UL'!M12
A12: Back | B12: ='3 day full body'!L13 | C12: ='3 day full body'!M13 | D12: ='4 day upper lower'!L13 | E12: ='4 day upper lower'!M13 | F12: ='5 day PPL + UL'!L13 | G12: ='5 day PPL + UL'!M13
A13: Shoulders | B13: ='3 day full body'!L14 | C13: ='3 day full body'!M14 | D13: ='4 day upper lower'!L14 | E13: ='4 day upper lower'!M14 | F13: ='5 day PPL + UL'!L14 | G13: ='5 day PPL + UL'!M14
A14: Quads | B14: ='3 day full body'!L15 | C14: ='3 day full body'!M15 | D14: ='4 day upper lower'!L15 | E14: ='4 day upper lower'!M15 | F14: ='5 day PPL + UL'!L15 | G14: ='5 day PPL + UL'!M15
A15: Hams and glutes | B15: ='3 day full body'!L16 | C15: ='3 day full body'!M16 | D15: ='4 day upper lower'!L16 | E15: ='4 day upper lower'!M16 | F15: ='5 day PPL + UL'!L16 | G15: ='5 day PPL + UL'!M16
A16: Biceps | B16: ='3 day full body'!L17 | C16: ='3 day full body'!M17 | D16: ='4 day upper lower'!L17 | E16: ='4 day upper lower'!M17 | F16: ='5 day PPL + UL'!L17 | G16: ='5 day PPL + UL'!M17
A17: Triceps | B17: ='3 day full body'!L18 | C17: ='3 day full body'!M18 | D17: ='4 day upper lower'!L18 | E17: ='4 day upper lower'!M18 | F17: ='5 day PPL + UL'!L18 | G17: ='5 day PPL + UL'!M18
A18: Calves | B18: ='3 day full body'!L19 | C18: ='3 day full body'!M19 | D18: ='4 day upper lower'!L19 | E18: ='4 day upper lower'!M19 | F18: ='5 day PPL + UL'!L19 | G18: ='5 day PPL + UL'!M19
A19: Core | B19: ='3 day full body'!L20 | C19: ='3 day full body'!M20 | D19: ='4 day upper lower'!L20 | E19: ='4 day upper lower'!M20 | F19: ='5 day PPL + UL'!L20 | G19: ='5 day PPL + UL'!M20
A20: Total | B20: ='3 day full body'!L21 | D20: ='4 day upper lower'!L21 | F20: ='5 day PPL + UL'!L21
A21: Sessions are the days a muscle is trained. Green = twice a week or more, orange = once. Hard sets are counted from the Muscle and Sets columns on each plan tab.
A23: Your week at a glance
B24: Mon | C24: Tue | D24: Wed | E24: Thu | F24: Fri | G24: Sat | H24: Sun
A25: 3 day: Full body | B25: =IFERROR(INDEX('3 day full body'!$Q$5:$Q$9,MATCH(B$24,'3 day full body'!$P$5:$P$9,0)),"rest") | C25: =IFERROR(INDEX('3 day full body'!$Q$5:$Q$9,MATCH(C$24,'3 day full body'!$P$5:$P$9,0)),"rest") | D25: =IFERROR(INDEX('3 day full body'!$Q$5:$Q$9,MATCH(D$24,'3 day full body'!$P$5:$P$9,0)),"rest") | E25: =IFERROR(INDEX('3 day full body'!$Q$5:$Q$9,MATCH(E$24,'3 day full body'!$P$5:$P$9,0)),"rest") | F25: =IFERROR(INDEX('3 day full body'!$Q$5:$Q$9,MATCH(F$24,'3 day full body'!$P$5:$P$9,0)),"rest") | G25: =IFERROR(INDEX('3 day full body'!$Q$5:$Q$9,MATCH(G$24,'3 day full body'!$P$5:$P$9,0)),"rest") | H25: =IFERROR(INDEX('3 day full body'!$Q$5:$Q$9,MATCH(H$24,'3 day full body'!$P$5:$P$9,0)),"rest")
A26: 4 day: Upper / lower | B26: =IFERROR(INDEX('4 day upper lower'!$Q$5:$Q$9,MATCH(B$24,'4 day upper lower'!$P$5:$P$9,0)),"rest") | C26: =IFERROR(INDEX('4 day upper lower'!$Q$5:$Q$9,MATCH(C$24,'4 day upper lower'!$P$5:$P$9,0)),"rest") | D26: =IFERROR(INDEX('4 day upper lower'!$Q$5:$Q$9,MATCH(D$24,'4 day upper lower'!$P$5:$P$9,0)),"rest") | E26: =IFERROR(INDEX('4 day upper lower'!$Q$5:$Q$9,MATCH(E$24,'4 day upper lower'!$P$5:$P$9,0)),"rest") | F26: =IFERROR(INDEX('4 day upper lower'!$Q$5:$Q$9,MATCH(F$24,'4 day upper lower'!$P$5:$P$9,0)),"rest") | G26: =IFERROR(INDEX('4 day upper lower'!$Q$5:$Q$9,MATCH(G$24,'4 day upper lower'!$P$5:$P$9,0)),"rest") | H26: =IFERROR(INDEX('4 day upper lower'!$Q$5:$Q$9,MATCH(H$24,'4 day upper lower'!$P$5:$P$9,0)),"rest")
A27: 5 day: PPL + upper / lower | B27: =IFERROR(INDEX('5 day PPL + UL'!$Q$5:$Q$9,MATCH(B$24,'5 day PPL + UL'!$P$5:$P$9,0)),"rest") | C27: =IFERROR(INDEX('5 day PPL + UL'!$Q$5:$Q$9,MATCH(C$24,'5 day PPL + UL'!$P$5:$P$9,0)),"rest") | D27: =IFERROR(INDEX('5 day PPL + UL'!$Q$5:$Q$9,MATCH(D$24,'5 day PPL + UL'!$P$5:$P$9,0)),"rest") | E27: =IFERROR(INDEX('5 day PPL + UL'!$Q$5:$Q$9,MATCH(E$24,'5 day PPL + UL'!$P$5:$P$9,0)),"rest") | F27: =IFERROR(INDEX('5 day PPL + UL'!$Q$5:$Q$9,MATCH(F$24,'5 day PPL + UL'!$P$5:$P$9,0)),"rest") | G27: =IFERROR(INDEX('5 day PPL + UL'!$Q$5:$Q$9,MATCH(G$24,'5 day PPL + UL'!$P$5:$P$9,0)),"rest") | H27: =IFERROR(INDEX('5 day PPL + UL'!$Q$5:$Q$9,MATCH(H$24,'5 day PPL + UL'!$P$5:$P$9,0)),"rest")
A28: Change the weekday on a plan tab and this strip follows. Pick the split by the days the client will really attend, not the days they hope to.

Sheet 3 day full body
A1: 3 day split: Full body | I1: scraler
A2: Prefilled with an example plan, so overwrite anything. Orange cells are inputs, grey cells calculate themselves.
A5: Client | E5: Week of | P5: =I11 | Q5: =A11
P6: =I21 | Q6: =A21
A7: TRAINING DAYS | C7: HARD SETS A WEEK | E7: EXERCISES | G7: AVERAGE RPE DONE | P7: =I31 | Q7: =A31
A8: =(SUM(C13:C19)>0)+(SUM(C23:C29)>0)+(SUM(C33:C39)>0) | C8: =SUM(C13:C19,C23:C29,C33:C39) | E8: =COUNTA(A13:A19,A23:A29,A33:A39) | G8: =IFERROR(AVERAGE(I13:I19,I23:I29,I33:I39),"-")
K10: Weekly sets per muscle
A11: Day 1: Full body A | H11: Weekday | I11: Mon | K11: Muscle | L11: Hard sets | M11: Sessions | N11: Band
A12: Exercise | B12: Muscle | C12: Sets | D12: Reps | E12: Target RPE | F12: Rest | G12: Load | H12: Reps done | I12: RPE done | K12: Chest | L12: =SUMIF(B13:B19,K12,C13:C19)+SUMIF(B23:B29,K12,C23:C29)+SUMIF(B33:B39,K12,C33:C39) | M12: =(COUNTIFS(B13:B19,K12,C13:C19,">0")>0)+(COUNTIFS(B23:B29,K12,C23:C29,">0")>0)+(COUNTIFS(B33:B39,K12,C33:C39,">0")>0) | N12: =IF(L12=0,"-",IF(L12<5,"under 5",IF(L12<10,"5 to 9","10 or more")))
A13: Back squat | B13: Quads | C13: 3 | D13: 6 to 8 | E13: 8 | F13: 2 to 3 min | K13: Back | L13: =SUMIF(B13:B19,K13,C13:C19)+SUMIF(B23:B29,K13,C23:C29)+SUMIF(B33:B39,K13,C33:C39) | M13: =(COUNTIFS(B13:B19,K13,C13:C19,">0")>0)+(COUNTIFS(B23:B29,K13,C23:C29,">0")>0)+(COUNTIFS(B33:B39,K13,C33:C39,">0")>0) | N13: =IF(L13=0,"-",IF(L13<5,"under 5",IF(L13<10,"5 to 9","10 or more")))
A14: Barbell bench press | B14: Chest | C14: 3 | D14: 6 to 8 | E14: 8 | F14: 2 to 3 min | K14: Shoulders | L14: =SUMIF(B13:B19,K14,C13:C19)+SUMIF(B23:B29,K14,C23:C29)+SUMIF(B33:B39,K14,C33:C39) | M14: =(COUNTIFS(B13:B19,K14,C13:C19,">0")>0)+(COUNTIFS(B23:B29,K14,C23:C29,">0")>0)+(COUNTIFS(B33:B39,K14,C33:C39,">0")>0) | N14: =IF(L14=0,"-",IF(L14<5,"under 5",IF(L14<10,"5 to 9","10 or more")))
A15: Barbell row | B15: Back | C15: 3 | D15: 8 to 10 | E15: 8 | F15: 2 min | K15: Quads | L15: =SUMIF(B13:B19,K15,C13:C19)+SUMIF(B23:B29,K15,C23:C29)+SUMIF(B33:B39,K15,C33:C39) | M15: =(COUNTIFS(B13:B19,K15,C13:C19,">0")>0)+(COUNTIFS(B23:B29,K15,C23:C29,">0")>0)+(COUNTIFS(B33:B39,K15,C33:C39,">0")>0) | N15: =IF(L15=0,"-",IF(L15<5,"under 5",IF(L15<10,"5 to 9","10 or more")))
A16: Romanian deadlift | B16: Hams and glutes | C16: 2 | D16: 8 to 10 | E16: 8 | F16: 2 min | K16: Hams and glutes | L16: =SUMIF(B13:B19,K16,C13:C19)+SUMIF(B23:B29,K16,C23:C29)+SUMIF(B33:B39,K16,C33:C39) | M16: =(COUNTIFS(B13:B19,K16,C13:C19,">0")>0)+(COUNTIFS(B23:B29,K16,C23:C29,">0")>0)+(COUNTIFS(B33:B39,K16,C33:C39,">0")>0) | N16: =IF(L16=0,"-",IF(L16<5,"under 5",IF(L16<10,"5 to 9","10 or more")))
A17: Dumbbell lateral raise | B17: Shoulders | C17: 2 | D17: 12 to 15 | E17: 9 | F17: 60 s | K17: Biceps | L17: =SUMIF(B13:B19,K17,C13:C19)+SUMIF(B23:B29,K17,C23:C29)+SUMIF(B33:B39,K17,C33:C39) | M17: =(COUNTIFS(B13:B19,K17,C13:C19,">0")>0)+(COUNTIFS(B23:B29,K17,C23:C29,">0")>0)+(COUNTIFS(B33:B39,K17,C33:C39,">0")>0) | N17: =IF(L17=0,"-",IF(L17<5,"under 5",IF(L17<10,"5 to 9","10 or more")))
A18: Dumbbell curl | B18: Biceps | C18: 2 | D18: 10 to 12 | E18: 9 | F18: 60 s | K18: Triceps | L18: =SUMIF(B13:B19,K18,C13:C19)+SUMIF(B23:B29,K18,C23:C29)+SUMIF(B33:B39,K18,C33:C39) | M18: =(COUNTIFS(B13:B19,K18,C13:C19,">0")>0)+(COUNTIFS(B23:B29,K18,C23:C29,">0")>0)+(COUNTIFS(B33:B39,K18,C33:C39,">0")>0) | N18: =IF(L18=0,"-",IF(L18<5,"under 5",IF(L18<10,"5 to 9","10 or more")))
A19: Standing calf raise | B19: Calves | C19: 2 | D19: 12 to 15 | E19: 9 | F19: 60 s | K19: Calves | L19: =SUMIF(B13:B19,K19,C13:C19)+SUMIF(B23:B29,K19,C23:C29)+SUMIF(B33:B39,K19,C33:C39) | M19: =(COUNTIFS(B13:B19,K19,C13:C19,">0")>0)+(COUNTIFS(B23:B29,K19,C23:C29,">0")>0)+(COUNTIFS(B33:B39,K19,C33:C39,">0")>0) | N19: =IF(L19=0,"-",IF(L19<5,"under 5",IF(L19<10,"5 to 9","10 or more")))
K20: Core | L20: =SUMIF(B13:B19,K20,C13:C19)+SUMIF(B23:B29,K20,C23:C29)+SUMIF(B33:B39,K20,C33:C39) | M20: =(COUNTIFS(B13:B19,K20,C13:C19,">0")>0)+(COUNTIFS(B23:B29,K20,C23:C29,">0")>0)+(COUNTIFS(B33:B39,K20,C33:C39,">0")>0) | N20: =IF(L20=0,"-",IF(L20<5,"under 5",IF(L20<10,"5 to 9","10 or more")))
A21: Day 2: Full body B | H21: Weekday | I21: Wed | K21: Total | L21: =SUM(L12:L20)
A22: Exercise | B22: Muscle | C22: Sets | D22: Reps | E22: Target RPE | F22: Rest | G22: Load | H22: Reps done | I22: RPE done
A23: Leg press | B23: Quads | C23: 3 | D23: 8 to 10 | E23: 8 | F23: 2 min | K23: Sessions = days that include the muscle. Bands (under 5, 5 to 9, 10 or more weekly sets) come from a 2017 meta-analysis and are a reference point, not a rule.
A24: Overhead press | B24: Shoulders | C24: 3 | D24: 6 to 8 | E24: 8 | F24: 2 to 3 min
A25: Lat pulldown | B25: Back | C25: 3 | D25: 8 to 10 | E25: 8 | F25: 2 min
A26: Incline dumbbell press | B26: Chest | C26: 2 | D26: 8 to 10 | E26: 8 | F26: 2 min
A27: Lying leg curl | B27: Hams and glutes | C27: 3 | D27: 10 to 12 | E27: 9 | F27: 90 s
A28: Cable triceps pushdown | B28: Triceps | C28: 2 | D28: 10 to 12 | E28: 9 | F28: 60 s
A29: Plank | B29: Core | C29: 3 | D29: 30 to 45 s | E29: 8 | F29: 60 s
A31: Day 3: Full body C | H31: Weekday | I31: Fri
A32: Exercise | B32: Muscle | C32: Sets | D32: Reps | E32: Target RPE | F32: Rest | G32: Load | H32: Reps done | I32: RPE done
A33: Bulgarian split squat | B33: Quads | C33: 3 | D33: 8 to 10 each leg | E33: 8 | F33: 2 min
A34: Dumbbell bench press | B34: Chest | C34: 3 | D34: 8 to 10 | E34: 8 | F34: 2 min
A35: Seated cable row | B35: Back | C35: 3 | D35: 10 to 12 | E35: 8 | F35: 90 s
A36: Hip thrust | B36: Hams and glutes | C36: 3 | D36: 8 to 10 | E36: 8 | F36: 2 min
A37: Face pull | B37: Shoulders | C37: 2 | D37: 12 to 15 | E37: 9 | F37: 60 s
A38: Overhead triceps extension | B38: Triceps | C38: 2 | D38: 10 to 12 | E38: 9 | F38: 60 s
A39: Hammer curl | B39: Biceps | C39: 2 | D39: 10 to 12 | E39: 9 | F39: 60 s

Sheet 4 day upper lower
A1: 4 day split: Upper / lower | I1: scraler
A2: Prefilled with an example plan, so overwrite anything. Orange cells are inputs, grey cells calculate themselves.
A5: Client | E5: Week of | P5: =I11 | Q5: =A11
P6: =I21 | Q6: =A21
A7: TRAINING DAYS | C7: HARD SETS A WEEK | E7: EXERCISES | G7: AVERAGE RPE DONE | P7: =I31 | Q7: =A31
A8: =(SUM(C13:C19)>0)+(SUM(C23:C29)>0)+(SUM(C33:C39)>0)+(SUM(C43:C49)>0) | C8: =SUM(C13:C19,C23:C29,C33:C39,C43:C49) | E8: =COUNTA(A13:A19,A23:A29,A33:A39,A43:A49) | G8: =IFERROR(AVERAGE(I13:I19,I23:I29,I33:I39,I43:I49),"-") | P8: =I41 | Q8: =A41
K10: Weekly sets per muscle
A11: Day 1: Upper A | H11: Weekday | I11: Mon | K11: Muscle | L11: Hard sets | M11: Sessions | N11: Band
A12: Exercise | B12: Muscle | C12: Sets | D12: Reps | E12: Target RPE | F12: Rest | G12: Load | H12: Reps done | I12: RPE done | K12: Chest | L12: =SUMIF(B13:B19,K12,C13:C19)+SUMIF(B23:B29,K12,C23:C29)+SUMIF(B33:B39,K12,C33:C39)+SUMIF(B43:B49,K12,C43:C49) | M12: =(COUNTIFS(B13:B19,K12,C13:C19,">0")>0)+(COUNTIFS(B23:B29,K12,C23:C29,">0")>0)+(COUNTIFS(B33:B39,K12,C33:C39,">0")>0)+(COUNTIFS(B43:B49,K12,C43:C49,">0")>0) | N12: =IF(L12=0,"-",IF(L12<5,"under 5",IF(L12<10,"5 to 9","10 or more")))
A13: Barbell bench press | B13: Chest | C13: 3 | D13: 6 to 8 | E13: 8 | F13: 2 to 3 min | K13: Back | L13: =SUMIF(B13:B19,K13,C13:C19)+SUMIF(B23:B29,K13,C23:C29)+SUMIF(B33:B39,K13,C33:C39)+SUMIF(B43:B49,K13,C43:C49) | M13: =(COUNTIFS(B13:B19,K13,C13:C19,">0")>0)+(COUNTIFS(B23:B29,K13,C23:C29,">0")>0)+(COUNTIFS(B33:B39,K13,C33:C39,">0")>0)+(COUNTIFS(B43:B49,K13,C43:C49,">0")>0) | N13: =IF(L13=0,"-",IF(L13<5,"under 5",IF(L13<10,"5 to 9","10 or more")))
A14: Bent-over row | B14: Back | C14: 3 | D14: 8 to 10 | E14: 8 | F14: 2 min | K14: Shoulders | L14: =SUMIF(B13:B19,K14,C13:C19)+SUMIF(B23:B29,K14,C23:C29)+SUMIF(B33:B39,K14,C33:C39)+SUMIF(B43:B49,K14,C43:C49) | M14: =(COUNTIFS(B13:B19,K14,C13:C19,">0")>0)+(COUNTIFS(B23:B29,K14,C23:C29,">0")>0)+(COUNTIFS(B33:B39,K14,C33:C39,">0")>0)+(COUNTIFS(B43:B49,K14,C43:C49,">0")>0) | N14: =IF(L14=0,"-",IF(L14<5,"under 5",IF(L14<10,"5 to 9","10 or more")))
A15: Dumbbell shoulder press | B15: Shoulders | C15: 3 | D15: 8 to 10 | E15: 8 | F15: 2 min | K15: Quads | L15: =SUMIF(B13:B19,K15,C13:C19)+SUMIF(B23:B29,K15,C23:C29)+SUMIF(B33:B39,K15,C33:C39)+SUMIF(B43:B49,K15,C43:C49) | M15: =(COUNTIFS(B13:B19,K15,C13:C19,">0")>0)+(COUNTIFS(B23:B29,K15,C23:C29,">0")>0)+(COUNTIFS(B33:B39,K15,C33:C39,">0")>0)+(COUNTIFS(B43:B49,K15,C43:C49,">0")>0) | N15: =IF(L15=0,"-",IF(L15<5,"under 5",IF(L15<10,"5 to 9","10 or more")))
A16: Lat pulldown | B16: Back | C16: 3 | D16: 10 to 12 | E16: 8 | F16: 90 s | K16: Hams and glutes | L16: =SUMIF(B13:B19,K16,C13:C19)+SUMIF(B23:B29,K16,C23:C29)+SUMIF(B33:B39,K16,C33:C39)+SUMIF(B43:B49,K16,C43:C49) | M16: =(COUNTIFS(B13:B19,K16,C13:C19,">0")>0)+(COUNTIFS(B23:B29,K16,C23:C29,">0")>0)+(COUNTIFS(B33:B39,K16,C33:C39,">0")>0)+(COUNTIFS(B43:B49,K16,C43:C49,">0")>0) | N16: =IF(L16=0,"-",IF(L16<5,"under 5",IF(L16<10,"5 to 9","10 or more")))
A17: Cable triceps pushdown | B17: Triceps | C17: 2 | D17: 10 to 12 | E17: 9 | F17: 60 s | K17: Biceps | L17: =SUMIF(B13:B19,K17,C13:C19)+SUMIF(B23:B29,K17,C23:C29)+SUMIF(B33:B39,K17,C33:C39)+SUMIF(B43:B49,K17,C43:C49) | M17: =(COUNTIFS(B13:B19,K17,C13:C19,">0")>0)+(COUNTIFS(B23:B29,K17,C23:C29,">0")>0)+(COUNTIFS(B33:B39,K17,C33:C39,">0")>0)+(COUNTIFS(B43:B49,K17,C43:C49,">0")>0) | N17: =IF(L17=0,"-",IF(L17<5,"under 5",IF(L17<10,"5 to 9","10 or more")))
A18: Dumbbell curl | B18: Biceps | C18: 2 | D18: 10 to 12 | E18: 9 | F18: 60 s | K18: Triceps | L18: =SUMIF(B13:B19,K18,C13:C19)+SUMIF(B23:B29,K18,C23:C29)+SUMIF(B33:B39,K18,C33:C39)+SUMIF(B43:B49,K18,C43:C49) | M18: =(COUNTIFS(B13:B19,K18,C13:C19,">0")>0)+(COUNTIFS(B23:B29,K18,C23:C29,">0")>0)+(COUNTIFS(B33:B39,K18,C33:C39,">0")>0)+(COUNTIFS(B43:B49,K18,C43:C49,">0")>0) | N18: =IF(L18=0,"-",IF(L18<5,"under 5",IF(L18<10,"5 to 9","10 or more")))
K19: Calves | L19: =SUMIF(B13:B19,K19,C13:C19)+SUMIF(B23:B29,K19,C23:C29)+SUMIF(B33:B39,K19,C33:C39)+SUMIF(B43:B49,K19,C43:C49) | M19: =(COUNTIFS(B13:B19,K19,C13:C19,">0")>0)+(COUNTIFS(B23:B29,K19,C23:C29,">0")>0)+(COUNTIFS(B33:B39,K19,C33:C39,">0")>0)+(COUNTIFS(B43:B49,K19,C43:C49,">0")>0) | N19: =IF(L19=0,"-",IF(L19<5,"under 5",IF(L19<10,"5 to 9","10 or more")))
K20: Core | L20: =SUMIF(B13:B19,K20,C13:C19)+SUMIF(B23:B29,K20,C23:C29)+SUMIF(B33:B39,K20,C33:C39)+SUMIF(B43:B49,K20,C43:C49) | M20: =(COUNTIFS(B13:B19,K20,C13:C19,">0")>0)+(COUNTIFS(B23:B29,K20,C23:C29,">0")>0)+(COUNTIFS(B33:B39,K20,C33:C39,">0")>0)+(COUNTIFS(B43:B49,K20,C43:C49,">0")>0) | N20: =IF(L20=0,"-",IF(L20<5,"under 5",IF(L20<10,"5 to 9","10 or more")))
A21: Day 2: Lower A | H21: Weekday | I21: Tue | K21: Total | L21: =SUM(L12:L20)
A22: Exercise | B22: Muscle | C22: Sets | D22: Reps | E22: Target RPE | F22: Rest | G22: Load | H22: Reps done | I22: RPE done
A23: Back squat | B23: Quads | C23: 3 | D23: 6 to 8 | E23: 8 | F23: 2 to 3 min | K23: Sessions = days that include the muscle. Bands (under 5, 5 to 9, 10 or more weekly sets) come from a 2017 meta-analysis and are a reference point, not a rule.
A24: Romanian deadlift | B24: Hams and glutes | C24: 3 | D24: 8 to 10 | E24: 8 | F24: 2 min
A25: Leg press | B25: Quads | C25: 3 | D25: 10 to 12 | E25: 8 | F25: 2 min
A26: Lying leg curl | B26: Hams and glutes | C26: 3 | D26: 10 to 12 | E26: 9 | F26: 90 s
A27: Standing calf raise | B27: Calves | C27: 3 | D27: 12 to 15 | E27: 9 | F27: 60 s
A28: Plank | B28: Core | C28: 3 | D28: 30 to 45 s | E28: 8 | F28: 60 s
A31: Day 3: Upper B | H31: Weekday | I31: Thu
A32: Exercise | B32: Muscle | C32: Sets | D32: Reps | E32: Target RPE | F32: Rest | G32: Load | H32: Reps done | I32: RPE done
A33: Incline dumbbell press | B33: Chest | C33: 3 | D33: 8 to 10 | E33: 8 | F33: 2 min
A34: Pull-up or close-grip pulldown | B34: Back | C34: 3 | D34: 6 to 10 | E34: 8 | F34: 2 min
A35: Lateral raise | B35: Shoulders | C35: 3 | D35: 12 to 15 | E35: 9 | F35: 60 s
A36: Seated cable row | B36: Back | C36: 3 | D36: 10 to 12 | E36: 8 | F36: 90 s
A37: Face pull | B37: Shoulders | C37: 2 | D37: 12 to 15 | E37: 9 | F37: 60 s
A38: Dip or overhead triceps extension | B38: Triceps | C38: 2 | D38: 10 to 12 | E38: 9 | F38: 60 s
A41: Day 4: Lower B | H41: Weekday | I41: Fri
A42: Exercise | B42: Muscle | C42: Sets | D42: Reps | E42: Target RPE | F42: Rest | G42: Load | H42: Reps done | I42: RPE done
A43: Trap bar deadlift or hip thrust | B43: Hams and glutes | C43: 3 | D43: 5 to 8 | E43: 8 | F43: 2 to 3 min
A44: Walking lunge (dumbbells) | B44: Quads | C44: 3 | D44: 8 to 10 each leg | E44: 8 | F44: 90 s
A45: Leg extension | B45: Quads | C45: 3 | D45: 10 to 12 | E45: 9 | F45: 90 s
A46: Hip adduction or abduction | B46: Hams and glutes | C46: 2 | D46: 12 to 15 | E46: 9 | F46: 60 s
A47: Seated calf raise | B47: Calves | C47: 3 | D47: 12 to 15 | E47: 9 | F47: 60 s
...

Sheet 5 day PPL + UL
A1: 5 day split: Push, pull, legs, upper, lower | I1: scraler
A2: Prefilled with an example plan, so overwrite anything. Orange cells are inputs, grey cells calculate themselves.
A5: Client | E5: Week of | P5: =I11 | Q5: =A11
P6: =I21 | Q6: =A21
A7: TRAINING DAYS | C7: HARD SETS A WEEK | E7: EXERCISES | G7: AVERAGE RPE DONE | P7: =I31 | Q7: =A31
A8: =(SUM(C13:C19)>0)+(SUM(C23:C29)>0)+(SUM(C33:C39)>0)+(SUM(C43:C49)>0)+(SUM(C53:C59)>0) | C8: =SUM(C13:C19,C23:C29,C33:C39,C43:C49,C53:C59) | E8: =COUNTA(A13:A19,A23:A29,A33:A39,A43:A49,A53:A59) | G8: =IFERROR(AVERAGE(I13:I19,I23:I29,I33:I39,I43:I49,I53:I59),"-") | P8: =I41 | Q8: =A41
P9: =I51 | Q9: =A51
K10: Weekly sets per muscle
A11: Day 1: Push | H11: Weekday | I11: Mon | K11: Muscle | L11: Hard sets | M11: Sessions | N11: Band
A12: Exercise | B12: Muscle | C12: Sets | D12: Reps | E12: Target RPE | F12: Rest | G12: Load | H12: Reps done | I12: RPE done | K12: Chest | L12: =SUMIF(B13:B19,K12,C13:C19)+SUMIF(B23:B29,K12,C23:C29)+SUMIF(B33:B39,K12,C33:C39)+SUMIF(B43:B49,K12,C43:C49)+SUMIF(B53:B59,K12,C53:C59) | M12: =(COUNTIFS(B13:B19,K12,C13:C19,">0")>0)+(COUNTIFS(B23:B29,K12,C23:C29,">0")>0)+(COUNTIFS(B33:B39,K12,C33:C39,">0")>0)+(COUNTIFS(B43:B49,K12,C43:C49,">0")>0)+(COUNTIFS(B53:B59,K12,C53:C59,">0")>0) | N12: =IF(L12=0,"-",IF(L12<5,"under 5",IF(L12<10,"5 to 9","10 or more")))
A13: Barbell bench press | B13: Chest | C13: 3 | D13: 6 to 8 | E13: 8 | F13: 2 to 3 min | K13: Back | L13: =SUMIF(B13:B19,K13,C13:C19)+SUMIF(B23:B29,K13,C23:C29)+SUMIF(B33:B39,K13,C33:C39)+SUMIF(B43:B49,K13,C43:C49)+SUMIF(B53:B59,K13,C53:C59) | M13: =(COUNTIFS(B13:B19,K13,C13:C19,">0")>0)+(COUNTIFS(B23:B29,K13,C23:C29,">0")>0)+(COUNTIFS(B33:B39,K13,C33:C39,">0")>0)+(COUNTIFS(B43:B49,K13,C43:C49,">0")>0)+(COUNTIFS(B53:B59,K13,C53:C59,">0")>0) | N13: =IF(L13=0,"-",IF(L13<5,"under 5",IF(L13<10,"5 to 9","10 or more")))
A14: Overhead press | B14: Shoulders | C14: 3 | D14: 6 to 8 | E14: 8 | F14: 2 to 3 min | K14: Shoulders | L14: =SUMIF(B13:B19,K14,C13:C19)+SUMIF(B23:B29,K14,C23:C29)+SUMIF(B33:B39,K14,C33:C39)+SUMIF(B43:B49,K14,C43:C49)+SUMIF(B53:B59,K14,C53:C59) | M14: =(COUNTIFS(B13:B19,K14,C13:C19,">0")>0)+(COUNTIFS(B23:B29,K14,C23:C29,">0")>0)+(COUNTIFS(B33:B39,K14,C33:C39,">0")>0)+(COUNTIFS(B43:B49,K14,C43:C49,">0")>0)+(COUNTIFS(B53:B59,K14,C53:C59,">0")>0) | N14: =IF(L14=0,"-",IF(L14<5,"under 5",IF(L14<10,"5 to 9","10 or more")))
A15: Incline dumbbell press | B15: Chest | C15: 3 | D15: 8 to 10 | E15: 8 | F15: 2 min | K15: Quads | L15: =SUMIF(B13:B19,K15,C13:C19)+SUMIF(B23:B29,K15,C23:C29)+SUMIF(B33:B39,K15,C33:C39)+SUMIF(B43:B49,K15,C43:C49)+SUMIF(B53:B59,K15,C53:C59) | M15: =(COUNTIFS(B13:B19,K15,C13:C19,">0")>0)+(COUNTIFS(B23:B29,K15,C23:C29,">0")>0)+(COUNTIFS(B33:B39,K15,C33:C39,">0")>0)+(COUNTIFS(B43:B49,K15,C43:C49,">0")>0)+(COUNTIFS(B53:B59,K15,C53:C59,">0")>0) | N15: =IF(L15=0,"-",IF(L15<5,"under 5",IF(L15<10,"5 to 9","10 or more")))
A16: Dumbbell lateral raise | B16: Shoulders | C16: 3 | D16: 12 to 15 | E16: 9 | F16: 60 s | K16: Hams and glutes | L16: =SUMIF(B13:B19,K16,C13:C19)+SUMIF(B23:B29,K16,C23:C29)+SUMIF(B33:B39,K16,C33:C39)+SUMIF(B43:B49,K16,C43:C49)+SUMIF(B53:B59,K16,C53:C59) | M16: =(COUNTIFS(B13:B19,K16,C13:C19,">0")>0)+(COUNTIFS(B23:B29,K16,C23:C29,">0")>0)+(COUNTIFS(B33:B39,K16,C33:C39,">0")>0)+(COUNTIFS(B43:B49,K16,C43:C49,">0")>0)+(COUNTIFS(B53:B59,K16,C53:C59,">0")>0) | N16: =IF(L16=0,"-",IF(L16<5,"under 5",IF(L16<10,"5 to 9","10 or more")))
A17: Cable triceps pushdown | B17: Triceps | C17: 3 | D17: 10 to 12 | E17: 9 | F17: 60 s | K17: Biceps | L17: =SUMIF(B13:B19,K17,C13:C19)+SUMIF(B23:B29,K17,C23:C29)+SUMIF(B33:B39,K17,C33:C39)+SUMIF(B43:B49,K17,C43:C49)+SUMIF(B53:B59,K17,C53:C59) | M17: =(COUNTIFS(B13:B19,K17,C13:C19,">0")>0)+(COUNTIFS(B23:B29,K17,C23:C29,">0")>0)+(COUNTIFS(B33:B39,K17,C33:C39,">0")>0)+(COUNTIFS(B43:B49,K17,C43:C49,">0")>0)+(COUNTIFS(B53:B59,K17,C53:C59,">0")>0) | N17: =IF(L17=0,"-",IF(L17<5,"under 5",IF(L17<10,"5 to 9","10 or more")))
A18: Overhead triceps extension | B18: Triceps | C18: 2 | D18: 10 to 12 | E18: 9 | F18: 60 s | K18: Triceps | L18: =SUMIF(B13:B19,K18,C13:C19)+SUMIF(B23:B29,K18,C23:C29)+SUMIF(B33:B39,K18,C33:C39)+SUMIF(B43:B49,K18,C43:C49)+SUMIF(B53:B59,K18,C53:C59) | M18: =(COUNTIFS(B13:B19,K18,C13:C19,">0")>0)+(COUNTIFS(B23:B29,K18,C23:C29,">0")>0)+(COUNTIFS(B33:B39,K18,C33:C39,">0")>0)+(COUNTIFS(B43:B49,K18,C43:C49,">0")>0)+(COUNTIFS(B53:B59,K18,C53:C59,">0")>0) | N18: =IF(L18=0,"-",IF(L18<5,"under 5",IF(L18<10,"5 to 9","10 or more")))
K19: Calves | L19: =SUMIF(B13:B19,K19,C13:C19)+SUMIF(B23:B29,K19,C23:C29)+SUMIF(B33:B39,K19,C33:C39)+SUMIF(B43:B49,K19,C43:C49)+SUMIF(B53:B59,K19,C53:C59) | M19: =(COUNTIFS(B13:B19,K19,C13:C19,">0")>0)+(COUNTIFS(B23:B29,K19,C23:C29,">0")>0)+(COUNTIFS(B33:B39,K19,C33:C39,">0")>0)+(COUNTIFS(B43:B49,K19,C43:C49,">0")>0)+(COUNTIFS(B53:B59,K19,C53:C59,">0")>0) | N19: =IF(L19=0,"-",IF(L19<5,"under 5",IF(L19<10,"5 to 9","10 or more")))
K20: Core | L20: =SUMIF(B13:B19,K20,C13:C19)+SUMIF(B23:B29,K20,C23:C29)+SUMIF(B33:B39,K20,C33:C39)+SUMIF(B43:B49,K20,C43:C49)+SUMIF(B53:B59,K20,C53:C59) | M20: =(COUNTIFS(B13:B19,K20,C13:C19,">0")>0)+(COUNTIFS(B23:B29,K20,C23:C29,">0")>0)+(COUNTIFS(B33:B39,K20,C33:C39,">0")>0)+(COUNTIFS(B43:B49,K20,C43:C49,">0")>0)+(COUNTIFS(B53:B59,K20,C53:C59,">0")>0) | N20: =IF(L20=0,"-",IF(L20<5,"under 5",IF(L20<10,"5 to 9","10 or more")))
A21: Day 2: Pull | H21: Weekday | I21: Tue | K21: Total | L21: =SUM(L12:L20)
A22: Exercise | B22: Muscle | C22: Sets | D22: Reps | E22: Target RPE | F22: Rest | G22: Load | H22: Reps done | I22: RPE done
A23: Barbell row | B23: Back | C23: 3 | D23: 6 to 8 | E23: 8 | F23: 2 to 3 min | K23: Sessions = days that include the muscle. Bands (under 5, 5 to 9, 10 or more weekly sets) come from a 2017 meta-analysis and are a reference point, not a rule.
A24: Lat pulldown | B24: Back | C24: 3 | D24: 8 to 10 | E24: 8 | F24: 2 min
A25: Seated cable row | B25: Back | C25: 3 | D25: 10 to 12 | E25: 8 | F25: 90 s
A26: Face pull | B26: Shoulders | C26: 2 | D26: 12 to 15 | E26: 9 | F26: 60 s
A27: Barbell or EZ-bar curl | B27: Biceps | C27: 3 | D27: 8 to 10 | E27: 9 | F27: 60 s
A28: Hammer curl | B28: Biceps | C28: 2 | D28: 10 to 12 | E28: 9 | F28: 60 s
A31: Day 3: Legs | H31: Weekday | I31: Wed
A32: Exercise | B32: Muscle | C32: Sets | D32: Reps | E32: Target RPE | F32: Rest | G32: Load | H32: Reps done | I32: RPE done
A33: Back squat | B33: Quads | C33: 3 | D33: 6 to 8 | E33: 8 | F33: 2 to 3 min
A34: Romanian deadlift | B34: Hams and glutes | C34: 3 | D34: 8 to 10 | E34: 8 | F34: 2 min
A35: Leg press | B35: Quads | C35: 3 | D35: 10 to 12 | E35: 8 | F35: 2 min
A36: Lying leg curl | B36: Hams and glutes | C36: 3 | D36: 10 to 12 | E36: 9 | F36: 90 s
A37: Standing calf raise | B37: Calves | C37: 3 | D37: 12 to 15 | E37: 9 | F37: 60 s
A38: Hanging knee raise | B38: Core | C38: 3 | D38: 10 to 15 | E38: 8 | F38: 60 s
A41: Day 4: Upper | H41: Weekday | I41: Fri
A42: Exercise | B42: Muscle | C42: Sets | D42: Reps | E42: Target RPE | F42: Rest | G42: Load | H42: Reps done | I42: RPE done
A43: Dumbbell bench press | B43: Chest | C43: 3 | D43: 8 to 10 | E43: 8 | F43: 2 min
A44: Chest-supported row | B44: Back | C44: 3 | D44: 8 to 10 | E44: 8 | F44: 2 min
A45: Dumbbell shoulder press | B45: Shoulders | C45: 2 | D45: 8 to 10 | E45: 8 | F45: 2 min
A46: Cable fly | B46: Chest | C46: 2 | D46: 12 to 15 | E46: 9 | F46: 60 s
...
