Workbook

Sheet Log
A1: Workout log | I1: scraler
A2: One row per working set. Example rows are in bold orange: delete them before you start. See the How to use tab for the rest.
A5: SETS LOGGED | C5: TOTAL VOLUME (LOAD X REPS) | E5: AVERAGE RPE | G5: TRAINING DAYS
A6: =COUNT(H9:H308) | C6: =SUM(H9:H308) | E6: =IFERROR(AVERAGE(G9:G308),"-") | G6: =SUMPRODUCT((A9:A308<>"")/COUNTIF(A9:A308,A9:A308&""))
A8: Date | B8: Workout | C8: Exercise | D8: Set | E8: Load | F8: Reps | G8: RPE | H8: Volume (load x reps) | I8: Notes
A9: 46300 | B9: Upper A (example) | C9: Bench press | D9: 1 | E9: 70 | F9: 10 | G9: 7 | H9: =IF(OR(E9="",F9=""),"",E9*F9)
A10: 46300 | B10: Upper A (example) | C10: Bench press | D10: 2 | E10: 70 | F10: 9 | G10: 8 | H10: =IF(OR(E10="",F10=""),"",E10*F10)
A11: 46300 | B11: Upper A (example) | C11: Bench press | D11: 3 | E11: 70 | F11: 9 | G11: 8 | H11: =IF(OR(E11="",F11=""),"",E11*F11) | I11: Paused reps
A12: 46300 | B12: Upper A (example) | C12: Chest-supported row | D12: 1 | E12: 40 | F12: 12 | G12: 8 | H12: =IF(OR(E12="",F12=""),"",E12*F12)
A13: 46300 | B13: Upper A (example) | C13: Chest-supported row | D13: 2 | E13: 40 | F13: 11 | G13: 9 | H13: =IF(OR(E13="",F13=""),"",E13*F13)
H14: =IF(OR(E14="",F14=""),"",E14*F14)
H15: =IF(OR(E15="",F15=""),"",E15*F15)
H16: =IF(OR(E16="",F16=""),"",E16*F16)
H17: =IF(OR(E17="",F17=""),"",E17*F17)
H18: =IF(OR(E18="",F18=""),"",E18*F18)
H19: =IF(OR(E19="",F19=""),"",E19*F19)
H20: =IF(OR(E20="",F20=""),"",E20*F20)
H21: =IF(OR(E21="",F21=""),"",E21*F21)
H22: =IF(OR(E22="",F22=""),"",E22*F22)
H23: =IF(OR(E23="",F23=""),"",E23*F23)
H24: =IF(OR(E24="",F24=""),"",E24*F24)
H25: =IF(OR(E25="",F25=""),"",E25*F25)
... H308: =IF(OR(E308="",F308=""),"",E308*F308)

Sheet Lift tracker
A1: Lift tracker with load progression | K1: scraler
A2: Enter the top set of each session. Next load = last load if you did not reach the top of the rep range, otherwise last load plus your percentage, rounded to your plate step.
A5: LIFTS TRACKED | C5: SESSIONS LOGGED | E5: HEAVIEST TOP SET | G5: NEXT LOAD, LIFT 1
A6: =COUNTA(B8,B25,B42) | C6: =COUNT(B10:B23,B27:B40,B44:B57) | E6: =IF(COUNT(B10:B23,B27:B40,B44:B57)=0,"-",MAX(B10:B23,B27:B40,B44:B57)) | G6: =IFERROR(LOOKUP(2,1/(E10:E23<>""),E10:E23),"-")
A8: Lift | B8: Back squat (example) | D8: Top of rep range | E8: 12 | G8: Increase % | H8: 0.05 | J8: Plate step | K8: 2.5
A9: Date | B9: Top set load | C9: Reps | D9: RPE | E9: Next session load | F9: Notes
A10: 46279 | B10: 100 | C10: 8 | D10: 8 | E10: =IF(OR(B10="",C10="",$E$8=""),"",IF(C10>=$E$8,ROUND(B10*(1+$H$8)/$K$8,0)*$K$8,B10)) | F10: EXAMPLE: delete these rows
A11: 46286 | B11: 100 | C11: 10 | D11: 8 | E11: =IF(OR(B11="",C11="",$E$8=""),"",IF(C11>=$E$8,ROUND(B11*(1+$H$8)/$K$8,0)*$K$8,B11))
A12: 46293 | B12: 100 | C12: 12 | D12: 8 | E12: =IF(OR(B12="",C12="",$E$8=""),"",IF(C12>=$E$8,ROUND(B12*(1+$H$8)/$K$8,0)*$K$8,B12))
A13: 46300 | B13: 105 | C13: 8 | D13: 8 | E13: =IF(OR(B13="",C13="",$E$8=""),"",IF(C13>=$E$8,ROUND(B13*(1+$H$8)/$K$8,0)*$K$8,B13))
E14: =IF(OR(B14="",C14="",$E$8=""),"",IF(C14>=$E$8,ROUND(B14*(1+$H$8)/$K$8,0)*$K$8,B14))
E15: =IF(OR(B15="",C15="",$E$8=""),"",IF(C15>=$E$8,ROUND(B15*(1+$H$8)/$K$8,0)*$K$8,B15))
E16: =IF(OR(B16="",C16="",$E$8=""),"",IF(C16>=$E$8,ROUND(B16*(1+$H$8)/$K$8,0)*$K$8,B16))
E17: =IF(OR(B17="",C17="",$E$8=""),"",IF(C17>=$E$8,ROUND(B17*(1+$H$8)/$K$8,0)*$K$8,B17))
E18: =IF(OR(B18="",C18="",$E$8=""),"",IF(C18>=$E$8,ROUND(B18*(1+$H$8)/$K$8,0)*$K$8,B18))
E19: =IF(OR(B19="",C19="",$E$8=""),"",IF(C19>=$E$8,ROUND(B19*(1+$H$8)/$K$8,0)*$K$8,B19))
E20: =IF(OR(B20="",C20="",$E$8=""),"",IF(C20>=$E$8,ROUND(B20*(1+$H$8)/$K$8,0)*$K$8,B20))
E21: =IF(OR(B21="",C21="",$E$8=""),"",IF(C21>=$E$8,ROUND(B21*(1+$H$8)/$K$8,0)*$K$8,B21))
E22: =IF(OR(B22="",C22="",$E$8=""),"",IF(C22>=$E$8,ROUND(B22*(1+$H$8)/$K$8,0)*$K$8,B22))
E23: =IF(OR(B23="",C23="",$E$8=""),"",IF(C23>=$E$8,ROUND(B23*(1+$H$8)/$K$8,0)*$K$8,B23))
A25: Lift | D25: Top of rep range | G25: Increase % | H25: 0.05 | J25: Plate step | K25: 2.5
A26: Date | B26: Top set load | C26: Reps | D26: RPE | E26: Next session load | F26: Notes
E27: =IF(OR(B27="",C27="",$E$25=""),"",IF(C27>=$E$25,ROUND(B27*(1+$H$25)/$K$25,0)*$K$25,B27))
E28: =IF(OR(B28="",C28="",$E$25=""),"",IF(C28>=$E$25,ROUND(B28*(1+$H$25)/$K$25,0)*$K$25,B28))
E29: =IF(OR(B29="",C29="",$E$25=""),"",IF(C29>=$E$25,ROUND(B29*(1+$H$25)/$K$25,0)*$K$25,B29))
E30: =IF(OR(B30="",C30="",$E$25=""),"",IF(C30>=$E$25,ROUND(B30*(1+$H$25)/$K$25,0)*$K$25,B30))
E31: =IF(OR(B31="",C31="",$E$25=""),"",IF(C31>=$E$25,ROUND(B31*(1+$H$25)/$K$25,0)*$K$25,B31))
E32: =IF(OR(B32="",C32="",$E$25=""),"",IF(C32>=$E$25,ROUND(B32*(1+$H$25)/$K$25,0)*$K$25,B32))
E33: =IF(OR(B33="",C33="",$E$25=""),"",IF(C33>=$E$25,ROUND(B33*(1+$H$25)/$K$25,0)*$K$25,B33))
E34: =IF(OR(B34="",C34="",$E$25=""),"",IF(C34>=$E$25,ROUND(B34*(1+$H$25)/$K$25,0)*$K$25,B34))
E35: =IF(OR(B35="",C35="",$E$25=""),"",IF(C35>=$E$25,ROUND(B35*(1+$H$25)/$K$25,0)*$K$25,B35))
E36: =IF(OR(B36="",C36="",$E$25=""),"",IF(C36>=$E$25,ROUND(B36*(1+$H$25)/$K$25,0)*$K$25,B36))
E37: =IF(OR(B37="",C37="",$E$25=""),"",IF(C37>=$E$25,ROUND(B37*(1+$H$25)/$K$25,0)*$K$25,B37))
E38: =IF(OR(B38="",C38="",$E$25=""),"",IF(C38>=$E$25,ROUND(B38*(1+$H$25)/$K$25,0)*$K$25,B38))
... E40: =IF(OR(B40="",C40="",$E$25=""),"",IF(C40>=$E$25,ROUND(B40*(1+$H$25)/$K$25,0)*$K$25,B40))
A42: Lift | D42: Top of rep range | G42: Increase % | H42: 0.05 | J42: Plate step | K42: 2.5
A43: Date | B43: Top set load | C43: Reps | D43: RPE | E43: Next session load | F43: Notes
E44: =IF(OR(B44="",C44="",$E$42=""),"",IF(C44>=$E$42,ROUND(B44*(1+$H$42)/$K$42,0)*$K$42,B44))
E45: =IF(OR(B45="",C45="",$E$42=""),"",IF(C45>=$E$42,ROUND(B45*(1+$H$42)/$K$42,0)*$K$42,B45))
E46: =IF(OR(B46="",C46="",$E$42=""),"",IF(C46>=$E$42,ROUND(B46*(1+$H$42)/$K$42,0)*$K$42,B46))
E47: =IF(OR(B47="",C47="",$E$42=""),"",IF(C47>=$E$42,ROUND(B47*(1+$H$42)/$K$42,0)*$K$42,B47))
E48: =IF(OR(B48="",C48="",$E$42=""),"",IF(C48>=$E$42,ROUND(B48*(1+$H$42)/$K$42,0)*$K$42,B48))
E49: =IF(OR(B49="",C49="",$E$42=""),"",IF(C49>=$E$42,ROUND(B49*(1+$H$42)/$K$42,0)*$K$42,B49))
E50: =IF(OR(B50="",C50="",$E$42=""),"",IF(C50>=$E$42,ROUND(B50*(1+$H$42)/$K$42,0)*$K$42,B50))
E51: =IF(OR(B51="",C51="",$E$42=""),"",IF(C51>=$E$42,ROUND(B51*(1+$H$42)/$K$42,0)*$K$42,B51))
E52: =IF(OR(B52="",C52="",$E$42=""),"",IF(C52>=$E$42,ROUND(B52*(1+$H$42)/$K$42,0)*$K$42,B52))
E53: =IF(OR(B53="",C53="",$E$42=""),"",IF(C53>=$E$42,ROUND(B53*(1+$H$42)/$K$42,0)*$K$42,B53))
E54: =IF(OR(B54="",C54="",$E$42=""),"",IF(C54>=$E$42,ROUND(B54*(1+$H$42)/$K$42,0)*$K$42,B54))
E55: =IF(OR(B55="",C55="",$E$42=""),"",IF(C55>=$E$42,ROUND(B55*(1+$H$42)/$K$42,0)*$K$42,B55))
... E57: =IF(OR(B57="",C57="",$E$42=""),"",IF(C57>=$E$42,ROUND(B57*(1+$H$42)/$K$42,0)*$K$42,B57))
A59: Green next load = the sheet suggests going up. Green reps = you reached the top of your rep range. ACSM suggests a 2 to 10% increase when you can do 1 to 2 reps over the target.

Sheet Weekly volume
A1: Weekly volume | L1: scraler
A2: Type the Monday of each week. Volume is the sum of load x reps on the Log sheet for that week (includes the example rows until you delete them).
A5: TOTAL VOLUME | B5: BEST WEEK | C5: WEEKS TRAINED | D5: SETS LOGGED
A6: =SUM(C9:C34) | B6: =MAX(C9:C34) | C6: =COUNTIF(C9:C34,">0") | D6: =SUM(B9:B34)
A8: Week starting (Monday) | B8: Sets logged | C8: Total volume
A9: 46300 | B9: =COUNTIFS(Log!$A$9:$A$308,">="&A9,Log!$A$9:$A$308,"<"&A9+7,Log!$H$9:$H$308,">0") | C9: =SUMIFS(Log!$H$9:$H$308,Log!$A$9:$A$308,">="&A9,Log!$A$9:$A$308,"<"&A9+7)
A10: =A9+7 | B10: =COUNTIFS(Log!$A$9:$A$308,">="&A10,Log!$A$9:$A$308,"<"&A10+7,Log!$H$9:$H$308,">0") | C10: =SUMIFS(Log!$H$9:$H$308,Log!$A$9:$A$308,">="&A10,Log!$A$9:$A$308,"<"&A10+7)
A11: =A10+7 | B11: =COUNTIFS(Log!$A$9:$A$308,">="&A11,Log!$A$9:$A$308,"<"&A11+7,Log!$H$9:$H$308,">0") | C11: =SUMIFS(Log!$H$9:$H$308,Log!$A$9:$A$308,">="&A11,Log!$A$9:$A$308,"<"&A11+7)
A12: =A11+7 | B12: =COUNTIFS(Log!$A$9:$A$308,">="&A12,Log!$A$9:$A$308,"<"&A12+7,Log!$H$9:$H$308,">0") | C12: =SUMIFS(Log!$H$9:$H$308,Log!$A$9:$A$308,">="&A12,Log!$A$9:$A$308,"<"&A12+7)
A13: =A12+7 | B13: =COUNTIFS(Log!$A$9:$A$308,">="&A13,Log!$A$9:$A$308,"<"&A13+7,Log!$H$9:$H$308,">0") | C13: =SUMIFS(Log!$H$9:$H$308,Log!$A$9:$A$308,">="&A13,Log!$A$9:$A$308,"<"&A13+7)
A14: =A13+7 | B14: =COUNTIFS(Log!$A$9:$A$308,">="&A14,Log!$A$9:$A$308,"<"&A14+7,Log!$H$9:$H$308,">0") | C14: =SUMIFS(Log!$H$9:$H$308,Log!$A$9:$A$308,">="&A14,Log!$A$9:$A$308,"<"&A14+7)
A15: =A14+7 | B15: =COUNTIFS(Log!$A$9:$A$308,">="&A15,Log!$A$9:$A$308,"<"&A15+7,Log!$H$9:$H$308,">0") | C15: =SUMIFS(Log!$H$9:$H$308,Log!$A$9:$A$308,">="&A15,Log!$A$9:$A$308,"<"&A15+7)
A16: =A15+7 | B16: =COUNTIFS(Log!$A$9:$A$308,">="&A16,Log!$A$9:$A$308,"<"&A16+7,Log!$H$9:$H$308,">0") | C16: =SUMIFS(Log!$H$9:$H$308,Log!$A$9:$A$308,">="&A16,Log!$A$9:$A$308,"<"&A16+7)
A17: =A16+7 | B17: =COUNTIFS(Log!$A$9:$A$308,">="&A17,Log!$A$9:$A$308,"<"&A17+7,Log!$H$9:$H$308,">0") | C17: =SUMIFS(Log!$H$9:$H$308,Log!$A$9:$A$308,">="&A17,Log!$A$9:$A$308,"<"&A17+7)
A18: =A17+7 | B18: =COUNTIFS(Log!$A$9:$A$308,">="&A18,Log!$A$9:$A$308,"<"&A18+7,Log!$H$9:$H$308,">0") | C18: =SUMIFS(Log!$H$9:$H$308,Log!$A$9:$A$308,">="&A18,Log!$A$9:$A$308,"<"&A18+7)
A19: =A18+7 | B19: =COUNTIFS(Log!$A$9:$A$308,">="&A19,Log!$A$9:$A$308,"<"&A19+7,Log!$H$9:$H$308,">0") | C19: =SUMIFS(Log!$H$9:$H$308,Log!$A$9:$A$308,">="&A19,Log!$A$9:$A$308,"<"&A19+7)
A20: =A19+7 | B20: =COUNTIFS(Log!$A$9:$A$308,">="&A20,Log!$A$9:$A$308,"<"&A20+7,Log!$H$9:$H$308,">0") | C20: =SUMIFS(Log!$H$9:$H$308,Log!$A$9:$A$308,">="&A20,Log!$A$9:$A$308,"<"&A20+7)
A21: =A20+7 | B21: =COUNTIFS(Log!$A$9:$A$308,">="&A21,Log!$A$9:$A$308,"<"&A21+7,Log!$H$9:$H$308,">0") | C21: =SUMIFS(Log!$H$9:$H$308,Log!$A$9:$A$308,">="&A21,Log!$A$9:$A$308,"<"&A21+7)
... A34: =A33+7 | B34: =COUNTIFS(Log!$A$9:$A$308,">="&A34,Log!$A$9:$A$308,"<"&A34+7,Log!$H$9:$H$308,">0") | C34: =SUMIFS(Log!$H$9:$H$308,Log!$A$9:$A$308,">="&A34,Log!$A$9:$A$308,"<"&A34+7)

Sheet How to use
A1: Workout log template | C1: scraler
A2: Free from scraler.com/blog/workout-log-template. Works in Excel and Google Sheets (File, Import, Upload).
A5: Log sheet | B5: One row per working set. Type in the shaded cells: date, workout, exercise, set number, load, reps and RPE. Volume (load x reps) fills in by itself.
A6: Example rows | B6: The bold orange rows on the Log sheet are examples. Delete them before you start, or overwrite them.
A7: Load | B7: The weight you lifted. Use one unit (kg or lb) in the whole file.
A8: RPE | B8: Effort on that set. 10 = no reps left, 9 = 1 rep left, 8 = 2 reps left.
A9: Lift tracker sheet | B9: One block per lift, one row per session. Enter the top set and the sheet suggests next session's load: if you reached the top of your rep range, it adds your chosen percentage and rounds to your plate step.
A10: Increase % | B10: Change the percentage in the shaded cell. ACSM's progression position stand suggests a 2 to 10% increase when you can do 1 to 2 reps over the target.
A11: Weekly volume sheet | B11: Type the Monday of each week and it adds up the volume logged on the Log sheet for that week.
